BEGIN:VCALENDAR
VERSION:2.0
PRODID:-//hacksw/handcal//NONSGML v1.0//EN
CALSCALE:GREGORIAN
BEGIN:VEVENT
LOCATION:1 Park RdIowa City\, IA US 52242
DESCRIPTION:<p>The University of Iowa Future Alumni Awards celebrate University of Iowa students who exemplify excellence and dedication in shaping the future of our university community. These awards recognize individuals who embody the spirit of giving back through their contributions of time\, treasure\, talent\, ties\, and tradition. The ceremony will bring together students\, faculty\, staff\, and alumni to acknowledge the exceptional efforts of our next generation of leaders.<br><br>Join us for an inspiring evening of recognition and community-building as we spotlight the individuals making a lasting impact on the University of Iowa.</p><p>For more information and to nominate a student\, visit <a target="_blank" rel="noopener noreferrer nofollow" href="https://www.foriowa.org/student-opportunities">https://www.foriowa.org/student-opportunities</a>.</p>
X-ALT-DESC;FMTTYPE=TEXT/HTML:<p>The University of Iowa Future Alumni Awards celebrate University of Iowa students who exemplify excellence and dedication in shaping the future of our university community. These awards recognize individuals who embody the spirit of giving back through their contributions of time\, treasure\, talent\, ties\, and tradition. The ceremony will bring together students\, faculty\, staff\, and alumni to acknowledge the exceptional efforts of our next generation of leaders.<br><br>Join us for an inspiring evening of recognition and community-building as we spotlight the individuals making a lasting impact on the University of Iowa.</p><p>For more information and to nominate a student\, visit <a target="_blank" rel="noopener noreferrer nofollow" href="https://www.foriowa.org/student-opportunities">https://www.foriowa.org/student-opportunities</a>.</p>
DTSTART:20261112T173000
DTEND:20261112T190000
SUMMARY:University of Iowa Future Alumni Award Ceremony
DTSTAMP:20260424T152333
UID:69ebdf554423c
END:VEVENT
END:VCALENDAR