BEGIN:VCALENDAR
VERSION:2.0
PRODID:-//hacksw/handcal//NONSGML v1.0//EN
CALSCALE:GREGORIAN
BEGIN:VEVENT
LOCATION:210 W. Head St.Arcadia\, IA US 51430
DESCRIPTION:<p>The Hawkeyes are headed to Arcadia! Don’t miss your chance to meet your favorite coaches and staff as we tour the Hawkeye State. Hosted by the Carroll Area I-Club\, our guests include:</p><ul><li><p>Kirk Ferentz\, Moon Family Head Football Coach</p></li><li><p>Jan Jensen\, P. Sue Beckwith\, MD\, Head Women’s Basketball Coach</p></li><li><p>Ben McCollum\, Iowa men’s basketball head coach</p></li><li><p>Tom Brands\, Iowa men’s wrestling head coach</p></li><li><p>Gary Dolphin\, voice of the Iowa Hawkeyes</p></li></ul><p>Doors open at 5:30 p.m. with a social hour\, followed by a dinner and program. This event will include cash refreshments\, door prizes\, and more. Cost is $30 for adults and $15 for youth (seventh grade and younger).</p><p>RSVP to Bill Wenger at 712-790-0527 or <a target="_blank" rel="noopener noreferrer nofollow" href="mailto:bcwenger@netins.net">bcwenger@netins.net</a>\, or Jeff Cayler at 712-830-3794.</p>
X-ALT-DESC;FMTTYPE=TEXT/HTML:<p>The Hawkeyes are headed to Arcadia! Don’t miss your chance to meet your favorite coaches and staff as we tour the Hawkeye State. Hosted by the Carroll Area I-Club\, our guests include:</p><ul><li><p>Kirk Ferentz\, Moon Family Head Football Coach</p></li><li><p>Jan Jensen\, P. Sue Beckwith\, MD\, Head Women’s Basketball Coach</p></li><li><p>Ben McCollum\, Iowa men’s basketball head coach</p></li><li><p>Tom Brands\, Iowa men’s wrestling head coach</p></li><li><p>Gary Dolphin\, voice of the Iowa Hawkeyes</p></li></ul><p>Doors open at 5:30 p.m. with a social hour\, followed by a dinner and program. This event will include cash refreshments\, door prizes\, and more. Cost is $30 for adults and $15 for youth (seventh grade and younger).</p><p>RSVP to Bill Wenger at 712-790-0527 or <a target="_blank" rel="noopener noreferrer nofollow" href="mailto:bcwenger@netins.net">bcwenger@netins.net</a>\, or Jeff Cayler at 712-830-3794.</p>
DTSTART:20260511T173000
DTEND:20260420T111334
SUMMARY:Hawkeye Events 2026: Arcadia
DTSTAMP:20260420T111334
UID:69e65ebe9a212
END:VEVENT
END:VCALENDAR