BEGIN:VCALENDAR
VERSION:2.0
PRODID:-//hacksw/handcal//NONSGML v1.0//EN
CALSCALE:GREGORIAN
BEGIN:VEVENT
LOCATION:7001 Westown Parkway Suite 100West Des Moines\, IA US 50266
DESCRIPTION:<p>The Hawkeyes are headed to West Des Moines! Don’t miss your chance to meet your favorite coaches and staff as we tour the Hawkeye State. Hosted by the Polk County I-Club\, our event will feature:</p><ul><li><p>Kirk Ferentz\, Moon Family Head Football Coach</p></li><li><p>Jan Jensen\, P. Sue Beckwith\, MD\, Head Women’s Basketball Coach</p></li><li><p>Lisa Cellucci\, Iowa field hockey head coach</p></li><li><p>Gary Dolphin\, voice of the Iowa Hawkeyes</p></li></ul><p>Doors open at 5 p.m. with a social hour and raffle. A dinner and program will follow. Ticket prices are:</p><ul><li><p>$60 for adults</p></li><li><p>$30 for youth 12 years old and younger</p></li><li><p>$600 for a reserved table of 10 individuals</p></li><li><p>$750 for a premium reserved table (closer to the stage) of 10 individuals</p></li></ul><p>Please contact Addison Boughton\, Polk County I-Club president\, at <a target="_blank" rel="noopener noreferrer nofollow" href="mailto:polkcountyiclub@gmail.com">polkcountyiclub@gmail.com</a> with any questions about the event.</p>
X-ALT-DESC;FMTTYPE=TEXT/HTML:<p>The Hawkeyes are headed to West Des Moines! Don’t miss your chance to meet your favorite coaches and staff as we tour the Hawkeye State. Hosted by the Polk County I-Club\, our event will feature:</p><ul><li><p>Kirk Ferentz\, Moon Family Head Football Coach</p></li><li><p>Jan Jensen\, P. Sue Beckwith\, MD\, Head Women’s Basketball Coach</p></li><li><p>Lisa Cellucci\, Iowa field hockey head coach</p></li><li><p>Gary Dolphin\, voice of the Iowa Hawkeyes</p></li></ul><p>Doors open at 5 p.m. with a social hour and raffle. A dinner and program will follow. Ticket prices are:</p><ul><li><p>$60 for adults</p></li><li><p>$30 for youth 12 years old and younger</p></li><li><p>$600 for a reserved table of 10 individuals</p></li><li><p>$750 for a premium reserved table (closer to the stage) of 10 individuals</p></li></ul><p>Please contact Addison Boughton\, Polk County I-Club president\, at <a target="_blank" rel="noopener noreferrer nofollow" href="mailto:polkcountyiclub@gmail.com">polkcountyiclub@gmail.com</a> with any questions about the event.</p>
DTSTART:20260506T170000
DTEND:20260420T120524
SUMMARY:Hawkeye Events 2026: West Des Moines
DTSTAMP:20260420T120524
UID:69e66ae4429c9
END:VEVENT
END:VCALENDAR