BEGIN:VCALENDAR
VERSION:2.0
PRODID:-//hacksw/handcal//NONSGML v1.0//EN
CALSCALE:GREGORIAN
BEGIN:VEVENT
LOCATION:16682 Thunder Hills DrivePeosta\, IA US 52068
DESCRIPTION:<p>The Hawkeyes are headed to Peosta! Don’t miss your chance to meet your favorite coaches and staff as we tour the Hawkeye State.</p><p>Our annual golf outing will begin at 12:30 p.m. Following the Dubuque County I-Club golf outing\, attend a reception and program with heavy hors d'oeuvres and drinks for purchase. The reception will start at 5:30 p.m. Joining us in Peosta will be:</p><ul><li><p>Jim Barnes\, Iowa volleyball head coach</p></li><li><p>Tyler Stith\, Iowa men’s golf head coach</p></li><li><p>Dean Ward\, Iowa soccer head coach</p></li><li><p>Seth Wallace\, Iowa football assistant head coach</p></li><li><p>Gary Dolphin\, voice of the Iowa Hawkeyes</p></li></ul><p><strong>Registration Options:</strong></p><ul><li><p>$175 per person\, which includes golf (green fees and cart) and heavy hors d’oeuvres</p></li><li><p>$25 per person for the reception only\, which includes heavy hors d’oeuvres</p></li></ul><p>For more information and to register for the event\, contact the Thunder Hills Golf Shop at <a target="_blank" rel="noopener noreferrer nofollow" href="mailto:golf@thunderhillscc.com">golf@thunderhillscc.com</a> or 563-556-3256.</p><p>We hope to see you there. Go Hawks!</p>
X-ALT-DESC;FMTTYPE=TEXT/HTML:<p>The Hawkeyes are headed to Peosta! Don’t miss your chance to meet your favorite coaches and staff as we tour the Hawkeye State.</p><p>Our annual golf outing will begin at 12:30 p.m. Following the Dubuque County I-Club golf outing\, attend a reception and program with heavy hors d'oeuvres and drinks for purchase. The reception will start at 5:30 p.m. Joining us in Peosta will be:</p><ul><li><p>Jim Barnes\, Iowa volleyball head coach</p></li><li><p>Tyler Stith\, Iowa men’s golf head coach</p></li><li><p>Dean Ward\, Iowa soccer head coach</p></li><li><p>Seth Wallace\, Iowa football assistant head coach</p></li><li><p>Gary Dolphin\, voice of the Iowa Hawkeyes</p></li></ul><p><strong>Registration Options:</strong></p><ul><li><p>$175 per person\, which includes golf (green fees and cart) and heavy hors d’oeuvres</p></li><li><p>$25 per person for the reception only\, which includes heavy hors d’oeuvres</p></li></ul><p>For more information and to register for the event\, contact the Thunder Hills Golf Shop at <a target="_blank" rel="noopener noreferrer nofollow" href="mailto:golf@thunderhillscc.com">golf@thunderhillscc.com</a> or 563-556-3256.</p><p>We hope to see you there. Go Hawks!</p>
DTSTART:20260521T123000
DTEND:20260521T190000
SUMMARY:Dubuque Co. I-Club Golf Outing and Hawkeye Spring Event
DTSTAMP:20260424T092123
UID:69eb8a73ec9ed
END:VEVENT
END:VCALENDAR