BEGIN:VCALENDAR
VERSION:2.0
PRODID:-//hacksw/handcal//NONSGML v1.0//EN
CALSCALE:GREGORIAN
BEGIN:VEVENT
LOCATION:325 Commercial StWaterloo\, IA US 50701
DESCRIPTION:<p>The Hawkeyes are headed to Waterloo! Don’t miss your chance to meet your favorite coaches and staff as we tour the Hawkeye State.</p><p>Joining us in Waterloo will be:</p><ul><li><p>Ben McCollum\, Iowa men’s basketball head coach</p></li><li><p>Lisa Cellucci\, Iowa field hockey head coach</p></li><li><p>Clarissa Chun\, Iowa women’s wrestling head coach</p></li><li><p>Stacy May-Johnson\, Iowa softball head coach</p></li></ul><p>The event will include a brief program and door prizes. Food and refreshments can be purchased throughout the evening.</p>
X-ALT-DESC;FMTTYPE=TEXT/HTML:<p>The Hawkeyes are headed to Waterloo! Don’t miss your chance to meet your favorite coaches and staff as we tour the Hawkeye State.</p><p>Joining us in Waterloo will be:</p><ul><li><p>Ben McCollum\, Iowa men’s basketball head coach</p></li><li><p>Lisa Cellucci\, Iowa field hockey head coach</p></li><li><p>Clarissa Chun\, Iowa women’s wrestling head coach</p></li><li><p>Stacy May-Johnson\, Iowa softball head coach</p></li></ul><p>The event will include a brief program and door prizes. Food and refreshments can be purchased throughout the evening.</p>
DTSTART:20260513T173000
DTEND:20260424T092251
SUMMARY:Hawkeye Events 2026: Waterloo
DTSTAMP:20260424T092251
UID:69eb8acba93e4
END:VEVENT
END:VCALENDAR