BEGIN:VCALENDAR
VERSION:2.0
PRODID:-//hacksw/handcal//NONSGML v1.0//EN
CALSCALE:GREGORIAN
BEGIN:VEVENT
LOCATION:Online Event
DESCRIPTION:<p>On April 25\, alumni\, students\, and friends across the globe will unite for the <strong>Hawkeye Day of Service</strong>—a day dedicated to volunteerism and community impact. Whether you clean up a park\, organize a donation drive\, or help at a local shelter\, your efforts will showcase Hawkeye pride and compassion.</p><p>Can’t volunteer on April 25? Projects near that date still count—just register and be part of this global movement! Projects registered before March 20 will receive Hawkeye Day of Service hats\, while supplies last.</p><p>For more details and to register your project\, visit the <a target="_blank" rel="noopener noreferrer nofollow" href="https://www.foriowa.org/hgb/">Hawkeyes Give Back homepage</a>.</p>
X-ALT-DESC;FMTTYPE=TEXT/HTML:<p>On April 25\, alumni\, students\, and friends across the globe will unite for the <strong>Hawkeye Day of Service</strong>—a day dedicated to volunteerism and community impact. Whether you clean up a park\, organize a donation drive\, or help at a local shelter\, your efforts will showcase Hawkeye pride and compassion.</p><p>Can’t volunteer on April 25? Projects near that date still count—just register and be part of this global movement! Projects registered before March 20 will receive Hawkeye Day of Service hats\, while supplies last.</p><p>For more details and to register your project\, visit the <a target="_blank" rel="noopener noreferrer nofollow" href="https://www.foriowa.org/hgb/">Hawkeyes Give Back homepage</a>.</p>
DTSTART:20260425T000000
DTEND:20260425T235959
SUMMARY:Hawkeye Day of Service
DTSTAMP:20260419T190504
UID:69e57bc01844a
END:VEVENT
END:VCALENDAR